BEGIN:VCALENDAR
PRODID:-//kirchenweb.ch gmbh//veranstaltungsausgabe v2.0//DE
VERSION:2.0
METHOD:PUBLISH
BEGIN:VEVENT
DTSTART:20240614T154500Z
DTEND:20240614T163000Z
LOCATION:Ref. Kirche Beringen\, Postberg 21\, 8222 Beringen
TRANSP:OPAQUE
SEQUENCE:0
UID:157191-veranstaltung@ref-sh.ch
DTSTAMP:20240606T055555Z
DESCRIPTION:anschliessend Check-in Beringen\n\nKontakt: Pfarrerin Eva
  Baumgardt\n\nWeitere Infos: https://www.ref-sh.ch/veranstaltung/157191
SUMMARY:Jugendgottesdienst Beringen
PRIORITY:5
X-MICROSOFT-CDO-IMPORTANCE:1
CLASS:PUBLIC
END:VEVENT
END:VCALENDAR
