BEGIN:VCALENDAR
PRODID:-//kirchenweb.ch gmbh//veranstaltungsausgabe v2.0//DE
VERSION:2.0
METHOD:PUBLISH
BEGIN:VEVENT
DTSTART:20240519T080000Z
DTEND:20240519T090000Z
LOCATION:HofAckerZentrum\, Alpenstrasse 176\, 8203 Schaffhausen
TRANSP:OPAQUE
SEQUENCE:0
UID:157182-veranstaltung@ref-sh.ch
DTSTAMP:20240618T072122Z
DESCRIPTION:Kontakt: Daniel Müller\n\nWeitere Infos:
  https://www.ref-sh.ch/veranstaltung/157182
SUMMARY:Familiengottesdienst zur Konfirmation (Pfingsten)
PRIORITY:5
X-MICROSOFT-CDO-IMPORTANCE:1
CLASS:PUBLIC
END:VEVENT
END:VCALENDAR
