BEGIN:VCALENDAR
PRODID:-//kirchenweb.ch gmbh//veranstaltungsausgabe v2.0//DE
VERSION:2.0
METHOD:PUBLISH
BEGIN:VEVENT
DTSTART:20241107T111500Z
DTEND:20241107T121500Z
LOCATION:HofAckerZentrum\, Alpenstrasse 176\, 8203 Schaffhausen
TRANSP:OPAQUE
SEQUENCE:0
UID:157159-veranstaltung@ref-sh.ch
DTSTAMP:20241105T232048Z
DESCRIPTION:Für einen Unkostenbeitrag von 5 Franken bekommen Sie ein
  feines Mittagessen. Jedermann\, auch gerne Familien\, sind herzlich
  willkommen. Wir freuen uns auf viele hungrige Gäste.  \n\nMenü: 
 \nLinsensuppe mit Kartoffeln\nGemüse-Hamburger\nTomatensauce\nRisotto\n
 \nKontakt: Sozialdiakonin Adriana Di Cesare \n\nWeitere Infos:
  https://www.ref-sh.ch/veranstaltung/157159
SUMMARY:Mittagstisch
PRIORITY:5
X-MICROSOFT-CDO-IMPORTANCE:1
CLASS:PUBLIC
END:VEVENT
END:VCALENDAR
