BEGIN:VCALENDAR
PRODID:-//kirchenweb.ch gmbh//veranstaltungsausgabe v2.0//DE
VERSION:2.0
METHOD:PUBLISH
BEGIN:VEVENT
DTSTART:20240905T101500Z
DTEND:20240905T111500Z
LOCATION:HofAckerZentrum\, Alpenstrasse 176\, 8203 Schaffhausen
TRANSP:OPAQUE
SEQUENCE:0
UID:157157-veranstaltung@ref-sh.ch
DTSTAMP:20240906T084027Z
DESCRIPTION:Für einen Unkostenbeitrag von 5 Franken bekommen Sie ein
  feines Mittagessen. Jedermann\, auch gerne Familien\, sind herzlich
  willkommen. Wir freuen uns auf viele hungrige Gäste.  \n\nMenü:
 \nBrotsuppe\nRindsgulasch mit Teigwaren und Blattspinat\nKaffee und
  Dessert\n\nKontakt: Sozialdiakonin Adriana Di Cesare \n\nWeitere Infos:
  https://www.ref-sh.ch/veranstaltung/157157
SUMMARY:Mittagstisch
PRIORITY:5
X-MICROSOFT-CDO-IMPORTANCE:1
CLASS:PUBLIC
END:VEVENT
END:VCALENDAR
