BEGIN:VCALENDAR
PRODID:-//kirchenweb.ch gmbh//veranstaltungsausgabe v2.0//DE
VERSION:2.0
METHOD:PUBLISH
BEGIN:VEVENT
DTSTART:20240502T101500Z
DTEND:20240502T111500Z
LOCATION:HofAckerZentrum\, Alpenstrasse 176\, 8203 Schaffhausen
TRANSP:OPAQUE
SEQUENCE:0
UID:157155-veranstaltung@ref-sh.ch
DTSTAMP:20240502T054531Z
DESCRIPTION:Für einen Unkostenbeitrag von 5 Franken bekommen Sie ein
  feines Mittagessen. Jedermann\, auch gerne Familien\, sind herzlich
  willkommen. Wir freuen uns auf viele hungrige Gäste.  \n\nMenü Mai
  2024:\nReiscrèmesuppe mit frischen Tomatenwürfeli\nNudeln mit
  Steinpilzsauce\nTeigwaren mit Spinatsauce\n\nKontakt: Sozialdiakonin
  Adriana Di Cesare \n\nWeitere Infos:
  https://www.ref-sh.ch/veranstaltung/157155
SUMMARY:Mittagstisch
PRIORITY:5
X-MICROSOFT-CDO-IMPORTANCE:1
CLASS:PUBLIC
END:VEVENT
END:VCALENDAR
