BEGIN:VCALENDAR
PRODID:-//kirchenweb.ch gmbh//veranstaltungsausgabe v2.0//DE
VERSION:2.0
METHOD:PUBLISH
BEGIN:VEVENT
DTSTART:20231220T080000Z
DTEND:20231220T103000Z
LOCATION:Pizzeria\, \,
TRANSP:OPAQUE
SEQUENCE:0
UID:156904-veranstaltung@ref-sh.ch
DTSTAMP:20231018T184048Z
DESCRIPTION:Kontakt: Sus\nSusanne Ryser\n\nWeitere Infos:
  https://www.ref-sh.ch/veranstaltung/156904
SUMMARY:Handarbeitsplausch
PRIORITY:5
X-MICROSOFT-CDO-IMPORTANCE:1
CLASS:PUBLIC
END:VEVENT
END:VCALENDAR
