BEGIN:VCALENDAR
PRODID:-//kirchenweb.ch gmbh//veranstaltungsausgabe v2.0//DE
VERSION:2.0
METHOD:PUBLISH
BEGIN:VEVENT
DTSTART:20231126T100000Z
DTEND:20231126T150000Z
LOCATION:in der Turnhalle Gächlingen\, \,
TRANSP:OPAQUE
SEQUENCE:0
UID:156804-veranstaltung@ref-sh.ch
DTSTAMP:20231120T091943Z
DESCRIPTION:Dieser Anlass ist ein Treffpunkt für Gross und Klein\, an dem
  die Dorfgemeinschaft gepflegt und gleichzeitig etwas Gutes getan wird\,
  nämlich für die Stickerinnen in Peru und die Schweizerische  Multiple
  Sklerose Gesellschaft\, Regionalgruppe Schaffhausen. Sie bekommen je die
  Hälfte des Erlöses.\n\nProgramm: \n\n11.00 \nGottesdienst für Gross
  und Klein\, der von der Musikgesellschaft Gächlingen mitgestaltet wird\n
 \n12.00 \nMittagessen (Hörnli mit Ghackets\, Apfelmus\, Salat)\n\n13.00 
 \nKuchen- und Tortenbuffet\nKinderprogramm\nVerkaufsstände:
  Adventsgestecke und Türschmuck\, Karten nicht nur für Weihnachten\,
  allerlei Selbstgemachtes zum Essen und Verschenken\n\n15.00 
 \nKasperlitheater im Pfarrhaussaal\n\nDieser gemütliche Nachmittag dauert
  bis ca. 16 Uhr. \n\nNehmen Sie sich die Zeit\, um alte und neue
  Beziehungen zu pflegen!\nWir freuen uns auf Ihren Besuch.\n\n\nKontakt:
  Beatrix Niklaus\n\nWeitere Infos:
  https://www.ref-sh.ch/veranstaltung/156804
SUMMARY:Gemeindesonntag mit Bazar 2023
PRIORITY:5
X-MICROSOFT-CDO-IMPORTANCE:1
CLASS:PUBLIC
END:VEVENT
END:VCALENDAR
