BEGIN:VCALENDAR
PRODID:-//kirchenweb.ch gmbh//veranstaltungsausgabe v2.0//DE
VERSION:2.0
METHOD:PUBLISH
BEGIN:VEVENT
DTSTART:20231217T144500Z
DTEND:20231217T153000Z
LOCATION:Kirche Löhningen\, Kloster 3\, 8224 Löhningen
TRANSP:OPAQUE
SEQUENCE:0
UID:156776-veranstaltung@ref-sh.ch
DTSTAMP:20231014T070922Z
DESCRIPTION:Das Projektchörli für die Gemeinde-Weihnachtsfeier vom 17.
  Dezember 2023 trifft sich drei Mal:\nDonnerstag\, 30.11.2023\,
  18.30–19.30 Uhr\, im Memerhuus\nFreitag\, 8.12.2023\, 18.30–19.30
  Uhr\, in der Kirche\nSonntag\, 17.12.2023\, 16 Uhr Hauptprobe\,
  Gottesdienst um 17 Uhr\n\nKontakt: Monika Niebuhr\n\nWeitere Infos:
  https://www.ref-sh.ch/veranstaltung/156776
SUMMARY:Hauptprobe Weihnachts-Chörli
PRIORITY:5
X-MICROSOFT-CDO-IMPORTANCE:1
CLASS:PUBLIC
END:VEVENT
END:VCALENDAR
