BEGIN:VCALENDAR
PRODID:-//kirchenweb.ch gmbh//veranstaltungsausgabe v2.0//DE
VERSION:2.0
METHOD:PUBLISH
BEGIN:VEVENT
DTSTART:20240207T100000Z
DTEND:20240207T110000Z
LOCATION:Hofmeisterhuus\, \,
TRANSP:OPAQUE
SEQUENCE:0
UID:156723-veranstaltung@ref-sh.ch
DTSTAMP:20240122T162314Z
DESCRIPTION:Der Lokalhistoriker Martin Harzenmoser erzählt allerlei
  Geschichten und Anekdoten zum köstlichen Schaffhausen aus vergangener
  Zeit. Im Anschluss an den Vortrag servieren wir Ihnen einen feinen
  Suppenzmittag.\n\nHofmeisterhuus\, Mittwoch 7. Februar\, 11.00 Uhr \n
 \nSie sind herzlich willkommen\, auch ohne Anmeldung.\n\nWir freuen uns
  auf Sie!\n\nKontakt: Barbara Rohrer Sozialdiakonie\n\nWeitere Infos:
  https://www.ref-sh.ch/veranstaltung/156723
SUMMARY:Suppenzmittag mit Bildervortrag zum Thema: "Essen u. Trinken im
  alten Schaffhausen"
PRIORITY:5
X-MICROSOFT-CDO-IMPORTANCE:1
CLASS:PUBLIC
END:VEVENT
END:VCALENDAR
