BEGIN:VCALENDAR
PRODID:-//kirchenweb.ch gmbh//veranstaltungsausgabe v2.0//DE
VERSION:2.0
METHOD:PUBLISH
BEGIN:VEVENT
DTSTART:20261225T053000Z
DTEND:20261225T083000Z
LOCATION:Beringen\, Kirchgemeindehaus\, Steig 2\, 8222 Beringen
TRANSP:OPAQUE
SEQUENCE:0
UID:156558-veranstaltung@ref-sh.ch
DTSTAMP:20260213T093739Z
DESCRIPTION:Eine gute Stunde ziehen wir mit Lichtern durchs Dorf und
  singen Weihnachtslieder\, anschliessend gibt es im Kirchgemeindehaus
  Zmorge.\n\nKontakt: Pfrn. J. Schenk\n\nWeitere Infos:
  https://www.ref-sh.ch/veranstaltung/156558
SUMMARY:Kurrendesingen und gemeinsames Morgenessen\, Kirchenchor
PRIORITY:5
X-MICROSOFT-CDO-IMPORTANCE:1
CLASS:PUBLIC
END:VEVENT
END:VCALENDAR
