BEGIN:VCALENDAR
PRODID:-//kirchenweb.ch gmbh//veranstaltungsausgabe v2.0//DE
VERSION:2.0
METHOD:PUBLISH
BEGIN:VEVENT
DTSTART:20240914T070000Z
DTEND:20240914T143000Z
LOCATION:Mühle Wunderklingen\, Wunderklingen 8\, 8215 Hallau
TRANSP:OPAQUE
SEQUENCE:0
UID:156547-veranstaltung@ref-sh.ch
DTSTAMP:20250520T141005Z
DESCRIPTION:Die Gemeindeleitung (Strategiegruppe) der Kirchgemeinde
  Gächlingen tagt im Herbst.\nInformationen dazu:
 \nhttps://www.ref-sh.ch/kg/gaechlingen/gaechlingen-behoerden
 \nhttps://www.ref-sh.ch/kg/gaechlingen/gemeindeleitung\n\nEintreffen bis 9
  Uhr\n09.00 Kafi+Brötli/Gipfeli\n09.20 Themen I\n...\n\nKontakt:
  werner.naef@ref-sh.ch\n\nWeitere Infos:
  https://www.ref-sh.ch/veranstaltung/156547
SUMMARY:Gemeindeleitungs-Tag Herbst
PRIORITY:5
X-MICROSOFT-CDO-IMPORTANCE:1
CLASS:PUBLIC
END:VEVENT
END:VCALENDAR
