BEGIN:VCALENDAR
PRODID:-//kirchenweb.ch gmbh//veranstaltungsausgabe v2.0//DE
VERSION:2.0
METHOD:PUBLISH
BEGIN:VEVENT
DTSTART:20240114T073000Z
DTEND:20240114T083000Z
LOCATION:Kirche Buchthalen\, \, 8200 Schaffhausen
TRANSP:OPAQUE
SEQUENCE:0
UID:156417-veranstaltung@ref-sh.ch
DTSTAMP:20231109T083901Z
DESCRIPTION:Kontakt: Hans-Jörg Ganz\n\nWeitere Infos:
  https://www.ref-sh.ch/veranstaltung/156417
SUMMARY:Vorprobe La Capella
PRIORITY:5
X-MICROSOFT-CDO-IMPORTANCE:1
CLASS:PUBLIC
END:VEVENT
END:VCALENDAR
