BEGIN:VCALENDAR
PRODID:-//kirchenweb.ch gmbh//veranstaltungsausgabe v2.0//DE
VERSION:2.0
METHOD:PUBLISH
BEGIN:VEVENT
DTSTART:20240306T180000Z
DTEND:20240306T200000Z
LOCATION:Zwinglikirche\, Hochstrasse 202\, 8200 Schaffhausen
TRANSP:OPAQUE
SEQUENCE:0
UID:156370-veranstaltung@ref-sh.ch
DTSTAMP:20231211T103308Z
DESCRIPTION:➜ &nbsp;
  hhttps://www.ref-sh.ch/_kirchenweb/?g=la-capella-chorprobe\n\nKontakt:
  &nbsp;\nHans-Jörg Ganz\nFelix Ott\n\nWeitere Infos:
  https://www.ref-sh.ch/veranstaltung/156370
SUMMARY:SING MIT! offene Probe La Capella
PRIORITY:5
X-MICROSOFT-CDO-IMPORTANCE:1
CLASS:PUBLIC
END:VEVENT
END:VCALENDAR
