BEGIN:VCALENDAR
PRODID:-//kirchenweb.ch gmbh//veranstaltungsausgabe v2.0//DE
VERSION:2.0
METHOD:PUBLISH
BEGIN:VEVENT
DTSTART:20240818T080000Z
DTEND:20240818T090000Z
LOCATION:Kirche\, Kirchgasse\, 8226 Schleitheim
TRANSP:OPAQUE
SEQUENCE:0
UID:156054-veranstaltung@ref-sh.ch
DTSTAMP:20240820T140823Z
DESCRIPTION:mit 6. Klasse und Blue Cocktail Bar der Konfklasse\n\nKontakt:
  Pfr. Heinz Dutler\n\nWeitere Infos:
  https://www.ref-sh.ch/veranstaltung/156054
SUMMARY:Familiengottesdienst mit Taufen
PRIORITY:5
X-MICROSOFT-CDO-IMPORTANCE:1
CLASS:PUBLIC
END:VEVENT
END:VCALENDAR
