BEGIN:VCALENDAR
PRODID:-//kirchenweb.ch gmbh//veranstaltungsausgabe v2.0//DE
VERSION:2.0
METHOD:PUBLISH
BEGIN:VEVENT
DTSTART:20240804T080000Z
DTEND:20240804T090000Z
LOCATION:Kirche Beggingen\, Bohlgass 15.2\, 8228 Beggingen
TRANSP:OPAQUE
SEQUENCE:0
UID:156053-veranstaltung@ref-sh.ch
DTSTAMP:20240930T125132Z
DESCRIPTION:Kontakt: Pfrn. Pfrn. Karin Baumgartner-Vetterli\, Hauptstrasse
  59\, 8225 Siblingen\, karin.baumgartner@ref-sh.ch\, 079 179 61 15\n
 \nWeitere Infos: https://www.ref-sh.ch/veranstaltung/156053
SUMMARY:Regio-Gottesdienst
PRIORITY:5
X-MICROSOFT-CDO-IMPORTANCE:1
CLASS:PUBLIC
END:VEVENT
END:VCALENDAR
