BEGIN:VCALENDAR
PRODID:-//kirchenweb.ch gmbh//veranstaltungsausgabe v2.0//DE
VERSION:2.0
METHOD:PUBLISH
BEGIN:VEVENT
DTSTART:20240811T090000Z
DTEND:20240811T100000Z
LOCATION:Badi Schlaate\, Schlechtenbohl 28\, 8226 Schleitheim
TRANSP:OPAQUE
SEQUENCE:0
UID:156048-veranstaltung@ref-sh.ch
DTSTAMP:20241113T091409Z
DESCRIPTION:Dieses Jahr gestaltet von der Katholischen Kirche Schleitheim.
 \nEr findet bei jedem Wetter in der Badi statt. Anschliessend Verpflegung
  in der Badi möglich.\n\nEs laden ein: Katholische Kirche\, EMK\,
  Chrischona und Reformierte Kirchgemeinde.\n\nKontakt:
  heinz.dutler@ref-sh.ch\n\nWeitere Infos:
  https://www.ref-sh.ch/veranstaltung/156048
SUMMARY:Badigottesdienst (ökumenisch)
PRIORITY:5
X-MICROSOFT-CDO-IMPORTANCE:1
CLASS:PUBLIC
END:VEVENT
END:VCALENDAR
