BEGIN:VCALENDAR
PRODID:-//kirchenweb.ch gmbh//veranstaltungsausgabe v2.0//DE
VERSION:2.0
METHOD:PUBLISH
BEGIN:VEVENT
DTSTART:20240721T080000Z
DTEND:20240721T090000Z
LOCATION:Kirche\, Kirchgasse\, 8226 Schleitheim
TRANSP:OPAQUE
SEQUENCE:0
UID:156030-veranstaltung@ref-sh.ch
DTSTAMP:20241224T064714Z
DESCRIPTION:Kontakt: Pfr. Heinz Dutler\n\nWeitere Infos:
  https://www.ref-sh.ch/veranstaltung/156030
SUMMARY:Regio-Gottesdienst in Schleitheim
PRIORITY:5
X-MICROSOFT-CDO-IMPORTANCE:1
CLASS:PUBLIC
END:VEVENT
END:VCALENDAR
