BEGIN:VCALENDAR
PRODID:-//kirchenweb.ch gmbh//veranstaltungsausgabe v2.0//DE
VERSION:2.0
METHOD:PUBLISH
BEGIN:VEVENT
DTSTART:20240714T080000Z
DTEND:20240714T090000Z
LOCATION:Kirche Beggingen\, Bohlgass 15.2\, 8228 Beggingen
TRANSP:OPAQUE
SEQUENCE:0
UID:156029-veranstaltung@ref-sh.ch
DTSTAMP:20241224T064632Z
DESCRIPTION:Kontakt: Pfr. Heinz Dutler\n\nWeitere Infos:
  https://www.ref-sh.ch/veranstaltung/156029
SUMMARY:Regio-Gottesdienst
PRIORITY:5
X-MICROSOFT-CDO-IMPORTANCE:1
CLASS:PUBLIC
END:VEVENT
END:VCALENDAR
