BEGIN:VCALENDAR
PRODID:-//kirchenweb.ch gmbh//veranstaltungsausgabe v2.0//DE
VERSION:2.0
METHOD:PUBLISH
BEGIN:VEVENT
DTSTART:20240116T130000Z
DTEND:20240116T140000Z
LOCATION:HofAckerZentrum\, Alpenstrasse 176\, 8203 Schaffhausen
TRANSP:OPAQUE
SEQUENCE:0
UID:155979-veranstaltung@ref-sh.ch
DTSTAMP:20240812T080702Z
DESCRIPTION:Verteilen der Besuche\n\nKontakt: Adriana Di Cesare \n
 \nWeitere Infos: https://www.ref-sh.ch/veranstaltung/155979
SUMMARY:Besuchsteam für ältere Gemeindemitglieder
PRIORITY:5
X-MICROSOFT-CDO-IMPORTANCE:1
CLASS:PUBLIC
END:VEVENT
END:VCALENDAR
