BEGIN:VCALENDAR
PRODID:-//kirchenweb.ch gmbh//veranstaltungsausgabe v2.0//DE
VERSION:2.0
METHOD:PUBLISH
BEGIN:VEVENT
DTSTART:20240317T160000Z
DTEND:20240317T170000Z
LOCATION:Kirche Buchthalen\, Windeggstrasse 1\, 8203 Schaffhausen
TRANSP:OPAQUE
SEQUENCE:0
UID:155869-veranstaltung@ref-sh.ch
DTSTAMP:20240308T093528Z
DESCRIPTION:Musikalische Leitung: Sarah Rechsteiner\nKlavier: Timea Szabo
 \nBass: Jean-Pierre Dix\nSax/Perkussion: Elisabeth Sigrist\nKünstlerische
  Umsetzung: Mischa Niedermann\nEintritt frei\, Kollekte\n\nKontakt:
  Jacqueline Windler\n\nWeitere Infos:
  https://www.ref-sh.ch/veranstaltung/155869
SUMMARY:Konzert Chor Salz & Pfeffer
PRIORITY:5
X-MICROSOFT-CDO-IMPORTANCE:1
CLASS:PUBLIC
END:VEVENT
END:VCALENDAR
