BEGIN:VCALENDAR
PRODID:-//kirchenweb.ch gmbh//veranstaltungsausgabe v2.0//DE
VERSION:2.0
METHOD:PUBLISH
BEGIN:VEVENT
DTSTART:20231126T160000Z
DTEND:20231126T170000Z
LOCATION:Kirche\, Dorfstrasse\, 8454 Buchberg-Rüdlingen
TRANSP:OPAQUE
SEQUENCE:0
UID:155822-veranstaltung@ref-sh.ch
DTSTAMP:20230921T183645Z
DESCRIPTION:Unsere Organistin Marie Minářová spielt Musik von unter
  anderem Hindemith\, Franck\, Elert und J. S. Bach.\n\nSie schreibt: Beim
  Konzert möchte ich Komponisten aller Zeiten vom Barock bis heute zum
  Klingen bringen. Meine Vision des Konzerts ist:  "Musik ist voller
  Eindrücke\, Ausdruck\, Stimmungen und Kreativität wie der Herbst. Und
  es ist ein schöner Zufall\, dass auch unsere Orgel in der Kirche so
  schön gefärbt ist. Lasst also alle Farben sprechen!\n\nEintritt frei\,
  Kollekte.\n\n\n\nKontakt: beat.frefel@ref-sh.ch\n\nWeitere Infos:
  https://www.ref-sh.ch/veranstaltung/155822
SUMMARY:Orgelkonzert
PRIORITY:5
X-MICROSOFT-CDO-IMPORTANCE:1
CLASS:PUBLIC
END:VEVENT
END:VCALENDAR
