BEGIN:VCALENDAR
PRODID:-//kirchenweb.ch gmbh//veranstaltungsausgabe v2.0//DE
VERSION:2.0
METHOD:PUBLISH
BEGIN:VEVENT
DTSTART:20240114T083000Z
DTEND:20240114T093000Z
LOCATION:Steigkirche\, Nordstrasse 33\, 8200 Schaffhausen
TRANSP:OPAQUE
SEQUENCE:0
UID:155821-veranstaltung@ref-sh.ch
DTSTAMP:20240115T081344Z
DESCRIPTION:Predigt zu Markus 4\, 26-29: "Die selbstwachsende Saat".
  Informationen und Bilder über das Projekt ASHANTI in Benin von Manuela
  Kübler Baumann und Julia Baumann. Die Jugendlichen sind in den
  Gottesdienst eingeladen. Anschliessend Apéro\n\nKontakt: Pfr. Martin
  Baumgartner\n\nWeitere Infos: https://www.ref-sh.ch/veranstaltung/155821
SUMMARY:Gottesdienst
PRIORITY:5
X-MICROSOFT-CDO-IMPORTANCE:1
CLASS:PUBLIC
END:VEVENT
END:VCALENDAR
