BEGIN:VCALENDAR
PRODID:-//kirchenweb.ch gmbh//veranstaltungsausgabe v2.0//DE
VERSION:2.0
METHOD:PUBLISH
BEGIN:VEVENT
DTSTART:20240214T111500Z
DTEND:20240214T120000Z
LOCATION:Münster\, Münsterplatz\, 8200 Schaffhausen
TRANSP:OPAQUE
SEQUENCE:0
UID:155705-veranstaltung@ref-sh.ch
DTSTAMP:20240214T105515Z
DESCRIPTION:ökumenische Feier zum Beginn der Passionszeit - mit
  Aschesegen (Aschermittwoch)\n\nDen feierlichen Auftakt der 40 Tage
  dauernde Vorbereitungs- und Fastenzeit auf das Osterfest bildet der
  Aschermittwoch. Asche ist das Zeichen der Busse und Umkehr. Man “streut
  sich Asche aufs Haupt” und geht “in Sack und Asche” seines Wegs.
  Asche galt als Putzmittel. Ihr wurde eine reinigende Wirkung für die
  Seele nachgesagt. Das bei der Segnung am Aschermittwoch auf die Stirn
  gegebene Aschekreuz symbolisiert den Beginn der eigenen Fastenzeit und
  mahnt zur Busse mit den Worten: „Bedenke Mensch\, dass Du Staub bist
  und wieder zum Staub zurückkehrst“. Wenn Sie es wünschen\, geben wir
  Ihnen als Zeichen der Einkehr ein Aschezeichen auf die Stirn.\n\n
 \nKontakt: Pfarrer Roland Diethelm\nPastoralraumpfarrer Pius Troxler\n
 \nWeitere Infos: https://www.ref-sh.ch/veranstaltung/155705
SUMMARY:Ökumenische Feier zum Beginn der Passion
PRIORITY:5
X-MICROSOFT-CDO-IMPORTANCE:1
CLASS:PUBLIC
END:VEVENT
END:VCALENDAR
