BEGIN:VCALENDAR
PRODID:-//kirchenweb.ch gmbh//veranstaltungsausgabe v2.0//DE
VERSION:2.0
METHOD:PUBLISH
BEGIN:VEVENT
DTSTART:20240307T130000Z
DTEND:20240307T140000Z
LOCATION:HofAckerZentrum\, Alpenstrasse 176\, 8203 Schaffhausen
TRANSP:OPAQUE
SEQUENCE:0
UID:155638-veranstaltung@ref-sh.ch
DTSTAMP:20230912T153019Z
DESCRIPTION:Der Malkurs geht fortlaufend weiter. Theres Hintsch zeigt die
  Technik des Aquarellmalens. Um diese Maltechniken zu erlernen\, ist der
  Einstieg jederzeit möglich. \n\nHaben Sie Freude an künstlerischen
  Gestaltungen in einer ungezwungenen Atmosphäre\, so kommen Sie doch auch
  vorbei. Vorkenntnisse werden nicht erwartet. \n\nKosten Fr. 7.-- pro
  Nachmittag (14 bis 16 Uhr) \n\nMitzubringen sind: Zeichenblock\, Pinsel\,
  Aquarellfarben\n\nTheres Hintsch\, Tel. 052 625 25 39 oder
  theres.hintsch@bluewin.ch\n\nKontakt: Sozialdiakonin Adriana Di Cesare\n
 \nWeitere Infos: https://www.ref-sh.ch/veranstaltung/155638
SUMMARY:Malkurs
PRIORITY:5
X-MICROSOFT-CDO-IMPORTANCE:1
CLASS:PUBLIC
END:VEVENT
END:VCALENDAR
