BEGIN:VCALENDAR
PRODID:-//kirchenweb.ch gmbh//veranstaltungsausgabe v2.0//DE
VERSION:2.0
METHOD:PUBLISH
BEGIN:VEVENT
DTSTART:20240715T150000Z
DTEND:20240715T160000Z
LOCATION:HofAckerZentrum\, Alpenstrasse 176\, 8203 Schaffhausen
TRANSP:OPAQUE
SEQUENCE:0
UID:155625-veranstaltung@ref-sh.ch
DTSTAMP:20230915T071232Z
DESCRIPTION:Kontakt: Dorothea Giger\, Tel. 052 624 80 45\n\nWeitere Infos:
  https://www.ref-sh.ch/veranstaltung/155625
SUMMARY:Lesegruppe
PRIORITY:5
X-MICROSOFT-CDO-IMPORTANCE:1
CLASS:PUBLIC
END:VEVENT
END:VCALENDAR
