BEGIN:VCALENDAR
PRODID:-//kirchenweb.ch gmbh//veranstaltungsausgabe v2.0//DE
VERSION:2.0
METHOD:PUBLISH
BEGIN:VEVENT
DTSTART:20240115T160000Z
DTEND:20240115T170000Z
LOCATION:HofAckerZentrum\, Alpenstrasse 176\, 8203 Schaffhausen
TRANSP:OPAQUE
SEQUENCE:0
UID:155619-veranstaltung@ref-sh.ch
DTSTAMP:20230915T070954Z
DESCRIPTION:Kontakt: Dorothea Giger\, Tel. 052 624 80 45\n\nWeitere Infos:
  https://www.ref-sh.ch/veranstaltung/155619
SUMMARY:Lesegruppe
PRIORITY:5
X-MICROSOFT-CDO-IMPORTANCE:1
CLASS:PUBLIC
END:VEVENT
END:VCALENDAR
