BEGIN:VCALENDAR
PRODID:-//kirchenweb.ch gmbh//veranstaltungsausgabe v2.0//DE
VERSION:2.0
METHOD:PUBLISH
BEGIN:VEVENT
DTSTART:20240319T083000Z
DTEND:20240319T090000Z
LOCATION:Pfarreisaal St. Konrad Stauffacherstrasse 3\, \,
TRANSP:OPAQUE
SEQUENCE:0
UID:155615-veranstaltung@ref-sh.ch
DTSTAMP:20230912T054011Z
DESCRIPTION:(Ökumenischer Kleinkindergottesdienst). Pfr. Daniel Müller\,
  Pfr. Roland Diethelm und Petra Koblet\n\nKontakt:
  archiv.buchthalen@ref-sh.ch\n\nWeitere Infos:
  https://www.ref-sh.ch/veranstaltung/155615
SUMMARY:Fiire mit de Chliine
PRIORITY:5
X-MICROSOFT-CDO-IMPORTANCE:1
CLASS:PUBLIC
END:VEVENT
END:VCALENDAR
