BEGIN:VCALENDAR
PRODID:-//kirchenweb.ch gmbh//veranstaltungsausgabe v2.0//DE
VERSION:2.0
METHOD:PUBLISH
BEGIN:VEVENT
DTSTART:20240609T081500Z
DTEND:20240609T091500Z
LOCATION:Kirche Buchthalen\, Windeggstrasse 1\, 8203 Schaffhausen
TRANSP:OPAQUE
SEQUENCE:0
UID:155557-veranstaltung@ref-sh.ch
DTSTAMP:20240604T085904Z
DESCRIPTION:Kurze musikalische Feier zum Auftakt der Gartenexkursion
  durchs Quartier mit Urs Capaul und Raffael Mettler. \n\nUm ca. 12.30 Uhr:
  Brätlete beim HofAckerZentrum\n\nKontakt: Pfrn. Beatrice Kunz Pfeiffer\n
 \nWeitere Infos: https://www.ref-sh.ch/veranstaltung/155557
SUMMARY:Paradiesgarten
PRIORITY:5
X-MICROSOFT-CDO-IMPORTANCE:1
CLASS:PUBLIC
END:VEVENT
END:VCALENDAR
