BEGIN:VCALENDAR
PRODID:-//kirchenweb.ch gmbh//veranstaltungsausgabe v2.0//DE
VERSION:2.0
METHOD:PUBLISH
BEGIN:VEVENT
DTSTART:20240608T140000Z
DTEND:20240608T150000Z
LOCATION:Kirche Buchthalen\, Windeggstrasse 1\, 8203 Schaffhausen
TRANSP:OPAQUE
SEQUENCE:0
UID:155556-veranstaltung@ref-sh.ch
DTSTAMP:20240604T085843Z
DESCRIPTION:Märchen und Musik\, erzählt von Mama Jaga und gespielt von
  Pia Grees\, Gitarre.\n\nParadiesisches Buffet ab 18 Uhr\n\nKontakt: Pfrn.
  Beatrice Kunz Pfeiffer\n\nWeitere Infos:
  https://www.ref-sh.ch/veranstaltung/155556
SUMMARY:Paradiesgarten
PRIORITY:5
X-MICROSOFT-CDO-IMPORTANCE:1
CLASS:PUBLIC
END:VEVENT
END:VCALENDAR
