BEGIN:VCALENDAR
PRODID:-//kirchenweb.ch gmbh//veranstaltungsausgabe v2.0//DE
VERSION:2.0
METHOD:PUBLISH
BEGIN:VEVENT
DTSTART:20240607T170000Z
DTEND:20240607T180000Z
LOCATION:Kirche Buchthalen\, Windeggstrasse 1\, 8203 Schaffhausen
TRANSP:OPAQUE
SEQUENCE:0
UID:155555-veranstaltung@ref-sh.ch
DTSTAMP:20250820T120723Z
DESCRIPTION:Eröffnungsfeier\, anschliessend Erkunden des Paradiesgartens
  mit allen Sinnen\n\nKontakt: Pfrn. Beatrice Kunz Pfeiffer\n\nWeitere
  Infos: https://www.ref-sh.ch/veranstaltung/155555
SUMMARY:Paradiesgarten
PRIORITY:5
X-MICROSOFT-CDO-IMPORTANCE:1
CLASS:PUBLIC
END:VEVENT
END:VCALENDAR
