BEGIN:VCALENDAR
PRODID:-//kirchenweb.ch gmbh//veranstaltungsausgabe v2.0//DE
VERSION:2.0
METHOD:PUBLISH
BEGIN:VEVENT
DTSTART:20240214T180000Z
DTEND:20240214T190000Z
LOCATION:Kirche Herblingen\, Chileweg\, 8207 Schaffhausen
TRANSP:OPAQUE
SEQUENCE:0
UID:155520-veranstaltung@ref-sh.ch
DTSTAMP:20240403T182520Z
DESCRIPTION:Wir feiern die Liebe: ein silbernes\, goldenes oder gar
  diamantenes Hochzeit sind Anlass genug\, um für die gegenseitige Liebe
  zu danken. Diese Jubilare laden wir ganz speziell ein. Ebenso eingeladen
  sind aber auch alle Jung-Verheirateten\, Verlobten\, Verliebten und auch
  jene\, welche ihren Liebsten nun nur noch im Herzen tragen.\nDie Liturgie
  rund um den Valentinssegen wird von Pfarrerin Dorothe Felix und Pfarrer
  Peter Vogelsanger gestaltet.\nIm Anschluss stossen wir im Trüllisaal auf
  die Liebe an.\n\nKontakt: Pfr. Peter Vogelsanger\n\nPfrn. Dorothe Felix\n
 \nWeitere Infos: https://www.ref-sh.ch/veranstaltung/155520
SUMMARY:Valentinsfeier mit Birgit Gerber und Thomas Silvestri\,
  anschliessend Apéro
PRIORITY:5
X-MICROSOFT-CDO-IMPORTANCE:1
CLASS:PUBLIC
END:VEVENT
END:VCALENDAR
