BEGIN:VCALENDAR
PRODID:-//kirchenweb.ch gmbh//veranstaltungsausgabe v2.0//DE
VERSION:2.0
METHOD:PUBLISH
BEGIN:VEVENT
DTSTART:20231202T083000Z
DTEND:20231202T093000Z
LOCATION:Kirche\, Kirchstrasse 8\, 8214 Gächlingen
TRANSP:OPAQUE
SEQUENCE:0
UID:155465-veranstaltung@ref-sh.ch
DTSTAMP:20230907T153010Z
DESCRIPTION:Eine Feier für Kinder im Vorschulalter (ca. 2-5 Jahre alt)
  und ihre erwachsenen Begleitpersonen. Rund um eine Geschichte oder ein
  Thema gibt es Lieder\, etwas zum Entdecken\, Staunen\, Beten\, Spielen
  oder Basteln. Die Kinder sollen Kirche auf spielerische Weise so
  erleben\, dass es ihnen wohl ist.\nJüngere und ältere Geschwister sind
  herzlich willkommen. \nDie Feier dauert etwa eine halbe Stunde. 
 \nAnschliessend sind alle zum Znüni eingeladen. \n\nBitte Finken für die
  Kinder mitbringen.\n\nKontakt: \n\nWeitere Infos:
  https://www.ref-sh.ch/veranstaltung/155465
SUMMARY:Fiire mit de Chliine
PRIORITY:5
X-MICROSOFT-CDO-IMPORTANCE:1
CLASS:PUBLIC
END:VEVENT
END:VCALENDAR
