BEGIN:VCALENDAR
PRODID:-//kirchenweb.ch gmbh//veranstaltungsausgabe v2.0//DE
VERSION:2.0
METHOD:PUBLISH
BEGIN:VEVENT
DTSTART:20240904T120000Z
DTEND:20240904T150000Z
LOCATION:HofAckerZentrum\, Alpenstrasse 176\, 8203 Schaffhausen
TRANSP:OPAQUE
SEQUENCE:0
UID:155456-veranstaltung@ref-sh.ch
DTSTAMP:20250618T053912Z
DESCRIPTION:Für alle Kinder vom 1. Kindergarten bis ca. 10 Jahre\n\nFreut
  euch auf einen lustigen\, spannenden Nachmittag mit coolen Sachen\, die
  Kinder gerne machen. Und natürlich einem feinen Zvieri.\n\n\n\nKontakt:
  Pfr. Daniel Müller\nPfrn. Beatrice Kunz\nAdriana Di Cesare\n\nWeitere
  Infos: https://www.ref-sh.ch/veranstaltung/155456
SUMMARY:Spielfest
PRIORITY:5
X-MICROSOFT-CDO-IMPORTANCE:1
CLASS:PUBLIC
END:VEVENT
END:VCALENDAR
