BEGIN:VCALENDAR
PRODID:-//kirchenweb.ch gmbh//veranstaltungsausgabe v2.0//DE
VERSION:2.0
METHOD:PUBLISH
BEGIN:VEVENT
DTSTART:20231130T160000Z
DTEND:20231130T190000Z
LOCATION:Pfarrhaussäli\, Herrengasse 28\, 8213 Neunkirch
TRANSP:OPAQUE
SEQUENCE:0
UID:155454-veranstaltung@ref-sh.ch
DTSTAMP:20230907T153010Z
DESCRIPTION:Anlass der Evangelischen Frauen Neunkirch-Gächlingen\n
 \nKontakt: E\nEva Baumgardt\n\nWeitere Infos:
  https://www.ref-sh.ch/veranstaltung/155454
SUMMARY:Adventskränze herstellen
PRIORITY:5
X-MICROSOFT-CDO-IMPORTANCE:1
CLASS:PUBLIC
END:VEVENT
END:VCALENDAR
