BEGIN:VCALENDAR
PRODID:-//kirchenweb.ch gmbh//veranstaltungsausgabe v2.0//DE
VERSION:2.0
METHOD:PUBLISH
BEGIN:VEVENT
DTSTART:20240122T090000Z
DTEND:20240122T110000Z
LOCATION:Alter Wachtposten\, Eingang Oberhallauerstrasse\, Vordergasse
  52\, 8213 Neunkirch
TRANSP:OPAQUE
SEQUENCE:0
UID:155445-veranstaltung@ref-sh.ch
DTSTAMP:20231211T171025Z
DESCRIPTION:Thema: Chronische Schmerzen\nAb einem gewissen Alter stellen
  sie sich so sicher ein wie die Krähenfüsse um die Augen.\nAber wenn
  Schmerzen ein Ausmass annehmen\, dass die Lebensqualität stark und auf
  Dauer einschränkt und Medikamente nicht mehr helfen\, was dann?\nDr.
  med. Jan Kuchynka\, Chefarzt Rheumatologie\, Rehabilitation und Geriatrie
  am Kantonsspital\, besucht die "Spätlese" und berichtet aus seiner
  Erfahrung. \nDabei spielt das Lebensumfeld bei der Behandlung der
  Schmerzpatienten eine immer grössere Rolle.\nEintritt frei\, Kollekte am
  Ausgang\n\nKontakt: Eva Baumgardt\n\nWeitere Infos:
  https://www.ref-sh.ch/veranstaltung/155445
SUMMARY:Spätlese - Gesprächskreis für Menschen im gereiften Alter
PRIORITY:5
X-MICROSOFT-CDO-IMPORTANCE:1
CLASS:PUBLIC
END:VEVENT
END:VCALENDAR
