BEGIN:VCALENDAR
PRODID:-//kirchenweb.ch gmbh//veranstaltungsausgabe v2.0//DE
VERSION:2.0
METHOD:PUBLISH
BEGIN:VEVENT
DTSTART:20240520T170000Z
DTEND:20240520T180000Z
LOCATION:Münster\, Münsterplatz\, 8200 Schaffhausen
TRANSP:OPAQUE
SEQUENCE:0
UID:155259-veranstaltung@ref-sh.ch
DTSTAMP:20240515T140832Z
DESCRIPTION:Gesamtstädtischer Gottesdienst\n\nLektor: Harald Hauck\n
 \nKontakt: Ute Nürnberg\n\nWeitere Infos:
  https://www.ref-sh.ch/veranstaltung/155259
SUMMARY:Gottesdienst am zweiten Pfingstfesttag mit Abendmahl
PRIORITY:5
X-MICROSOFT-CDO-IMPORTANCE:1
CLASS:PUBLIC
END:VEVENT
END:VCALENDAR
