BEGIN:VCALENDAR
PRODID:-//kirchenweb.ch gmbh//veranstaltungsausgabe v2.0//DE
VERSION:2.0
METHOD:PUBLISH
BEGIN:VEVENT
DTSTART:20251115T073000Z
DTEND:20251115T110000Z
LOCATION:Mesmerhuus/Kirche Löhningen sowie Kirche Beringen\, Kloster 14\,
  8224 Löhningen
TRANSP:OPAQUE
SEQUENCE:0
UID:155253-veranstaltung@ref-sh.ch
DTSTAMP:20250812T153019Z
DESCRIPTION:Mit Pfarrer Lukas Huber\, Kloster 3\, 8224 Löhningen\,
  lukas.huber@ref-sh.ch\, 079 824 82 24 und Rosina Huber\, Kloster 3\, 8224
  Löhningen\, rosina.huber@ref-sh.ch\, 052 685 32 20.\n\nKontakt: Pfarrer
  Lukas Huber\n\nWeitere Infos: https://www.ref-sh.ch/veranstaltung/155253
SUMMARY:Konf-Unterricht: «Unsere Kirche\, genau betrachtet»
PRIORITY:5
X-MICROSOFT-CDO-IMPORTANCE:1
CLASS:PUBLIC
END:VEVENT
END:VCALENDAR
