BEGIN:VCALENDAR
PRODID:-//kirchenweb.ch gmbh//veranstaltungsausgabe v2.0//DE
VERSION:2.0
METHOD:PUBLISH
BEGIN:VEVENT
DTSTART:20240414T150000Z
DTEND:20240414T160000Z
LOCATION:Zwinglikirche\, Hochstrasse 202\, 8200 Schaffhausen
TRANSP:OPAQUE
SEQUENCE:0
UID:155217-veranstaltung@ref-sh.ch
DTSTAMP:20240410T135508Z
DESCRIPTION:Rund 25 Chormitglieder singen unter professioneller Leitung
  gegen ihre soziale Ausgrenzung und wirken in diesem diakonischen
  Gottesdienst mit.\nAusklang an der Feuerschale\n\nKontakt:
  wolfram.koetter@ref-sh.ch\n\nWeitere Infos:
  https://www.ref-sh.ch/veranstaltung/155217
SUMMARY:Gottesdienst mit dem Strassenchor Surprise
PRIORITY:5
X-MICROSOFT-CDO-IMPORTANCE:1
CLASS:PUBLIC
END:VEVENT
END:VCALENDAR
