BEGIN:VCALENDAR
PRODID:-//kirchenweb.ch gmbh//veranstaltungsausgabe v2.0//DE
VERSION:2.0
METHOD:PUBLISH
BEGIN:VEVENT
DTSTART:20240211T090000Z
DTEND:20240211T100000Z
LOCATION:Zwinglikirche\, Hochstrasse 202\, 8200 Schaffhausen
TRANSP:OPAQUE
SEQUENCE:0
UID:155216-veranstaltung@ref-sh.ch
DTSTAMP:20240202T084529Z
DESCRIPTION:Predigt zu 1. Kön 21: ‘Macht und Recht’\n\nKontakt:
  Markus Sieber\n\nWeitere Infos:
  https://www.ref-sh.ch/veranstaltung/155216
SUMMARY:Gottesdienst
PRIORITY:5
X-MICROSOFT-CDO-IMPORTANCE:1
CLASS:PUBLIC
END:VEVENT
END:VCALENDAR
