BEGIN:VCALENDAR
PRODID:-//kirchenweb.ch gmbh//veranstaltungsausgabe v2.0//DE
VERSION:2.0
METHOD:PUBLISH
BEGIN:VEVENT
DTSTART:20240204T160000Z
DTEND:20240204T170000Z
LOCATION:Zwinglikirche\, Hochstrasse 202\, 8200 Schaffhausen
TRANSP:OPAQUE
SEQUENCE:0
UID:155190-veranstaltung@ref-sh.ch
DTSTAMP:20231207T150443Z
DESCRIPTION:Kontakt: Andreas Storrer\n\nWeitere Infos:
  https://www.ref-sh.ch/veranstaltung/155190
SUMMARY:Nachtklang-Gottesdienst
PRIORITY:5
X-MICROSOFT-CDO-IMPORTANCE:1
CLASS:PUBLIC
END:VEVENT
END:VCALENDAR
