BEGIN:VCALENDAR
PRODID:-//kirchenweb.ch gmbh//veranstaltungsausgabe v2.0//DE
VERSION:2.0
METHOD:PUBLISH
BEGIN:VEVENT
DTSTART:20240128T090000Z
DTEND:20240128T100000Z
LOCATION:Zwinglikirche\, Hochstrasse 202\, 8200 Schaffhausen
TRANSP:OPAQUE
SEQUENCE:0
UID:155177-veranstaltung@ref-sh.ch
DTSTAMP:20240126T084153Z
DESCRIPTION:Kontakt: Pfrn. Miriam Gehrke-Kötter\n\nWeitere Infos:
  https://www.ref-sh.ch/veranstaltung/155177
SUMMARY:Gottesdienst
PRIORITY:5
X-MICROSOFT-CDO-IMPORTANCE:1
CLASS:PUBLIC
END:VEVENT
END:VCALENDAR
