BEGIN:VCALENDAR
PRODID:-//kirchenweb.ch gmbh//veranstaltungsausgabe v2.0//DE
VERSION:2.0
METHOD:PUBLISH
BEGIN:VEVENT
DTSTART:20240119T170000Z
DTEND:20240119T180000Z
LOCATION:Zwinglikirche\, Hochstrasse 202\, 8200 Schaffhausen
TRANSP:OPAQUE
SEQUENCE:0
UID:155169-veranstaltung@ref-sh.ch
DTSTAMP:20240111T075557Z
DESCRIPTION:"Wo Gott wohnt"\nAusklang an der Feuerschale.\n\nKontakt:
  Pfrn. Miriam Gehrke\n\nWeitere Infos:
  https://www.ref-sh.ch/veranstaltung/155169
SUMMARY:Der ANDERE Gottesdienst
PRIORITY:5
X-MICROSOFT-CDO-IMPORTANCE:1
CLASS:PUBLIC
END:VEVENT
END:VCALENDAR
