BEGIN:VCALENDAR
PRODID:-//kirchenweb.ch gmbh//veranstaltungsausgabe v2.0//DE
VERSION:2.0
METHOD:PUBLISH
BEGIN:VEVENT
DTSTART:20240114T090000Z
DTEND:20240114T110000Z
LOCATION:Zwinglikirche\, Hochstrasse 202\, 8200 Schaffhausen
TRANSP:OPAQUE
SEQUENCE:0
UID:155162-veranstaltung@ref-sh.ch
DTSTAMP:20240111T075538Z
DESCRIPTION:"Liebe - das Wesen des christlichen Glaubens?"\n\nKontakt:
  Pfr. Wolfram Kötter\n\nWeitere Infos:
  https://www.ref-sh.ch/veranstaltung/155162
SUMMARY:Gottesdienst
PRIORITY:5
X-MICROSOFT-CDO-IMPORTANCE:1
CLASS:PUBLIC
END:VEVENT
END:VCALENDAR
