BEGIN:VCALENDAR
PRODID:-//kirchenweb.ch gmbh//veranstaltungsausgabe v2.0//DE
VERSION:2.0
METHOD:PUBLISH
BEGIN:VEVENT
DTSTART:20240107T090000Z
DTEND:20240107T100000Z
LOCATION:Kirche St.Peter\, St.Peterstrasse 11\, 8200 Schaffhausen
TRANSP:OPAQUE
SEQUENCE:0
UID:155161-veranstaltung@ref-sh.ch
DTSTAMP:20231207T150010Z
DESCRIPTION:Kontakt: Pfrn. Miriam Gehrke\n\nWeitere Infos:
  https://www.ref-sh.ch/veranstaltung/155161
SUMMARY:Sternsinger-Gottesdienst
PRIORITY:5
X-MICROSOFT-CDO-IMPORTANCE:1
CLASS:PUBLIC
END:VEVENT
END:VCALENDAR
