BEGIN:VCALENDAR
PRODID:-//kirchenweb.ch gmbh//veranstaltungsausgabe v2.0//DE
VERSION:2.0
METHOD:PUBLISH
BEGIN:VEVENT
DTSTART:20231118T090000Z
DTEND:20231118T150000Z
LOCATION:Zwinglikirche\, Hochstrasse 202\, 8200 Schaffhausen
TRANSP:OPAQUE
SEQUENCE:0
UID:155145-veranstaltung@ref-sh.ch
DTSTAMP:20230901T082903Z
DESCRIPTION:Wir gehen an den https://www.ref-sh.ch/veranstaltung/149654.
  Leitung: Philippe Niklaus.\n\nKontakt: Philippe Niklaus\n\nWeitere Infos:
  https://www.ref-sh.ch/veranstaltung/155145
SUMMARY:Teilnahme am Kantonalen Konftag
PRIORITY:5
X-MICROSOFT-CDO-IMPORTANCE:1
CLASS:PUBLIC
END:VEVENT
END:VCALENDAR
