BEGIN:VCALENDAR
PRODID:-//kirchenweb.ch gmbh//veranstaltungsausgabe v2.0//DE
VERSION:2.0
METHOD:PUBLISH
BEGIN:VEVENT
DTSTART:20230924T080000Z
DTEND:20230924T090000Z
LOCATION:Schulhaus Löhningen\, Schulgasse 22\, 8224 Löhningen
TRANSP:OPAQUE
SEQUENCE:0
UID:154736-veranstaltung@ref-sh.ch
DTSTAMP:20230822T153006Z
DESCRIPTION:Während des Gottesdienstes werden Kinder bis ungefähr vier
  Jahren in der Chindehüeti im Schulhaus Löhningen betreut.\n\nKontakt:
  Ursula Schöttli\n\nWeitere Infos:
  https://www.ref-sh.ch/veranstaltung/154736
SUMMARY:Chindehüeti
PRIORITY:5
X-MICROSOFT-CDO-IMPORTANCE:1
CLASS:PUBLIC
END:VEVENT
END:VCALENDAR
