BEGIN:VCALENDAR
PRODID:-//kirchenweb.ch gmbh//veranstaltungsausgabe v2.0//DE
VERSION:2.0
METHOD:PUBLISH
BEGIN:VEVENT
DTSTART:20241020T074500Z
DTEND:20241020T084500Z
LOCATION:Ref. Kirche Beringen\, Postberg 21\, 8222 Beringen
TRANSP:OPAQUE
SEQUENCE:0
UID:154727-veranstaltung@ref-sh.ch
DTSTAMP:20240828T160154Z
DESCRIPTION:Regio-Gottesdienst in der Kirche Beringen.\nDie Kirchgemeinde
  Löhningen-Guntmadingen ist ebenfalls herzlich an diesen Gottesdienst
  eingeladen.\nApéro in der Kirche\n\nKontakt: Pfarrerin Jutta Schenk\n
 \nWeitere Infos: https://www.ref-sh.ch/veranstaltung/154727
SUMMARY:Regio-Gottesdienst zum Abschluss der Kinderwoche in Beringen
PRIORITY:5
X-MICROSOFT-CDO-IMPORTANCE:1
CLASS:PUBLIC
END:VEVENT
END:VCALENDAR
