BEGIN:VCALENDAR
PRODID:-//kirchenweb.ch gmbh//veranstaltungsausgabe v2.0//DE
VERSION:2.0
METHOD:PUBLISH
BEGIN:VEVENT
DTSTART:20240707T074500Z
DTEND:20240707T084500Z
LOCATION:Ref. Kirche Beringen\, Postberg 21\, 8222 Beringen
TRANSP:OPAQUE
SEQUENCE:0
UID:154724-veranstaltung@ref-sh.ch
DTSTAMP:20240618T055819Z
DESCRIPTION:Regio-Gottesdienst in der Kirche Beringen.\nDie Kirchgemeinde
  Löhningen-Guntmadingen ist ebenfalls herzlich an diesen Gottesdienst
  eingeladen.\nMitwirkung:Chen-Yu Wang\, Trompete\n\nKontakt: Ruedi
  Waldvogel\n\nWeitere Infos: https://www.ref-sh.ch/veranstaltung/154724
SUMMARY:Regio-Gottesdienst in Beringen
PRIORITY:5
X-MICROSOFT-CDO-IMPORTANCE:1
CLASS:PUBLIC
END:VEVENT
END:VCALENDAR
