BEGIN:VCALENDAR
PRODID:-//kirchenweb.ch gmbh//veranstaltungsausgabe v2.0//DE
VERSION:2.0
METHOD:PUBLISH
BEGIN:VEVENT
DTSTART:20240117T130000Z
DTEND:20240117T150000Z
LOCATION:Hofmeisterhuus\, Eichenstrasse 37\, \, 8200 Schaffhausen
TRANSP:OPAQUE
SEQUENCE:0
UID:154629-veranstaltung@ref-sh.ch
DTSTAMP:20240116T161850Z
DESCRIPTION:für Kinder vom 1. Kindergarten bis 2. Klasse. Basteln\,
  Spielen\, Singen und dem Hören einer biblischen Geschichte\n\n\nKontakt:
  admin.sjm@ref-sh.ch\n\nWeitere Infos:
  https://www.ref-sh.ch/veranstaltung/154629
SUMMARY:Arche
PRIORITY:5
X-MICROSOFT-CDO-IMPORTANCE:1
CLASS:PUBLIC
END:VEVENT
END:VCALENDAR
