BEGIN:VCALENDAR
PRODID:-//kirchenweb.ch gmbh//veranstaltungsausgabe v2.0//DE
VERSION:2.0
METHOD:PUBLISH
BEGIN:VEVENT
DTSTART:20230821T180000Z
DTEND:20230821T200000Z
LOCATION:Pfarrgarten Löhningen\, Kloster 3\, 8224 Löhningen
TRANSP:OPAQUE
SEQUENCE:0
UID:154603-veranstaltung@ref-sh.ch
DTSTAMP:20230818T153002Z
DESCRIPTION:Der pyromanische Workshop\nMöchtisch du lerne wiäme sicher
  Führspukt und andere cooli Sachen mit Führ macht wome z.B. imne Inputs
  usw. chan verwände.\nDen bisch du herzlich ihglade am kommende Mäntig
  uf die achti in Löhninger Pfarrhusgarte. \nEs wird ä heissi Sach\, das
  isch versproche. \nWo: 20.00-22.00 Uhr Kloster 3\, 8224 Löhningen\nFür
  Wer: Für Alli wo sich intresieräd \nMitbringen: Chleider wo dörfäd
  dräckig werde. \n\n\nKontakt: Sebastian Ebi\n\nWeitere Infos:
  https://www.ref-sh.ch/veranstaltung/154603
SUMMARY:Der pyromanische Workshop 🔥🔥
PRIORITY:5
X-MICROSOFT-CDO-IMPORTANCE:1
CLASS:PUBLIC
END:VEVENT
END:VCALENDAR
